BEGIN:VCALENDAR
VERSION:2.0
PRODID:-//Mid-Columbia Beekeepers Association - ECPv6.15.20//NONSGML v1.0//EN
CALSCALE:GREGORIAN
METHOD:PUBLISH
X-ORIGINAL-URL:https://www.tricitybees.org
X-WR-CALDESC:Events for Mid-Columbia Beekeepers Association
REFRESH-INTERVAL;VALUE=DURATION:PT1H
X-Robots-Tag:noindex
X-PUBLISHED-TTL:PT1H
BEGIN:VTIMEZONE
TZID:America/Los_Angeles
BEGIN:DAYLIGHT
TZOFFSETFROM:-0800
TZOFFSETTO:-0700
TZNAME:PDT
DTSTART:20240310T100000
END:DAYLIGHT
BEGIN:STANDARD
TZOFFSETFROM:-0700
TZOFFSETTO:-0800
TZNAME:PST
DTSTART:20241103T090000
END:STANDARD
BEGIN:DAYLIGHT
TZOFFSETFROM:-0800
TZOFFSETTO:-0700
TZNAME:PDT
DTSTART:20250309T100000
END:DAYLIGHT
BEGIN:STANDARD
TZOFFSETFROM:-0700
TZOFFSETTO:-0800
TZNAME:PST
DTSTART:20251102T090000
END:STANDARD
BEGIN:DAYLIGHT
TZOFFSETFROM:-0800
TZOFFSETTO:-0700
TZNAME:PDT
DTSTART:20260308T100000
END:DAYLIGHT
BEGIN:STANDARD
TZOFFSETFROM:-0700
TZOFFSETTO:-0800
TZNAME:PST
DTSTART:20261101T090000
END:STANDARD
END:VTIMEZONE
BEGIN:VEVENT
DTSTART;TZID=America/Los_Angeles:20250513T183000
DTEND;TZID=America/Los_Angeles:20250513T200000
DTSTAMP:20260423T132543
CREATED:20250322T200428Z
LAST-MODIFIED:20250322T212159Z
UID:51610-1747161000-1747166400@www.tricitybees.org
SUMMARY:May Membership Meeting
DESCRIPTION:Splitting Hives \nPublic is Welcome
URL:https://www.tricitybees.org/event/may-membership-meeting-2/
LOCATION:Richland Church of Christ\, 933 Thayer Dr.\, Richland\, WA\, 99352\, United States
CATEGORIES:Membership Meeting
ORGANIZER;CN="Mid-Columbia Beekeepers Association":MAILTO:info@tricitybees.org
END:VEVENT
BEGIN:VEVENT
DTSTART;TZID=America/Los_Angeles:20250408T183000
DTEND;TZID=America/Los_Angeles:20250408T200000
DTSTAMP:20260423T132543
CREATED:20250322T195339Z
LAST-MODIFIED:20250322T212119Z
UID:51606-1744137000-1744142400@www.tricitybees.org
SUMMARY:April Membership Meeting
DESCRIPTION:Education topic:  Demaree method for swarm control and honey production \nPublic is welcome
URL:https://www.tricitybees.org/event/april-membership-meeting/
LOCATION:Richland Church of Christ\, 933 Thayer Dr.\, Richland\, WA\, 99352\, United States
CATEGORIES:Membership Meeting
ORGANIZER;CN="Mid-Columbia Beekeepers Association":MAILTO:info@tricitybees.org
END:VEVENT
END:VCALENDAR