BEGIN:VCALENDAR
VERSION:2.0
PRODID:-//Mid-Columbia Beekeepers Association - ECPv6.15.20//NONSGML v1.0//EN
CALSCALE:GREGORIAN
METHOD:PUBLISH
X-ORIGINAL-URL:https://www.tricitybees.org
X-WR-CALDESC:Events for Mid-Columbia Beekeepers Association
REFRESH-INTERVAL;VALUE=DURATION:PT1H
X-Robots-Tag:noindex
X-PUBLISHED-TTL:PT1H
BEGIN:VTIMEZONE
TZID:America/Los_Angeles
BEGIN:DAYLIGHT
TZOFFSETFROM:-0800
TZOFFSETTO:-0700
TZNAME:PDT
DTSTART:20230312T100000
END:DAYLIGHT
BEGIN:STANDARD
TZOFFSETFROM:-0700
TZOFFSETTO:-0800
TZNAME:PST
DTSTART:20231105T090000
END:STANDARD
BEGIN:DAYLIGHT
TZOFFSETFROM:-0800
TZOFFSETTO:-0700
TZNAME:PDT
DTSTART:20240310T100000
END:DAYLIGHT
BEGIN:STANDARD
TZOFFSETFROM:-0700
TZOFFSETTO:-0800
TZNAME:PST
DTSTART:20241103T090000
END:STANDARD
BEGIN:DAYLIGHT
TZOFFSETFROM:-0800
TZOFFSETTO:-0700
TZNAME:PDT
DTSTART:20250309T100000
END:DAYLIGHT
BEGIN:STANDARD
TZOFFSETFROM:-0700
TZOFFSETTO:-0800
TZNAME:PST
DTSTART:20251102T090000
END:STANDARD
BEGIN:DAYLIGHT
TZOFFSETFROM:-0800
TZOFFSETTO:-0700
TZNAME:PDT
DTSTART:20260308T100000
END:DAYLIGHT
BEGIN:STANDARD
TZOFFSETFROM:-0700
TZOFFSETTO:-0800
TZNAME:PST
DTSTART:20261101T090000
END:STANDARD
BEGIN:DAYLIGHT
TZOFFSETFROM:-0800
TZOFFSETTO:-0700
TZNAME:PDT
DTSTART:20270314T100000
END:DAYLIGHT
BEGIN:STANDARD
TZOFFSETFROM:-0700
TZOFFSETTO:-0800
TZNAME:PST
DTSTART:20271107T090000
END:STANDARD
END:VTIMEZONE
BEGIN:VEVENT
DTSTART;TZID=America/Los_Angeles:20260307T083000
DTEND;TZID=America/Los_Angeles:20260307T170000
DTSTAMP:20260423T124726
CREATED:20241212T222143Z
LAST-MODIFIED:20251203T191517Z
UID:49250-1772872200-1772902800@www.tricitybees.org
SUMMARY:MCBA Beginners Beekeeping Class
DESCRIPTION:
URL:https://www.tricitybees.org/event/mcba-beginners-beekeeping-class/
LOCATION:Richland Church of Christ\, 933 Thayer Dr.\, Richland\, WA\, 99352\, United States
CATEGORIES:Education
ORGANIZER;CN="Mid-Columbia Beekeepers Association":MAILTO:info@tricitybees.org
END:VEVENT
BEGIN:VEVENT
DTSTART;TZID=America/Los_Angeles:20240203T083000
DTEND;TZID=America/Los_Angeles:20240203T163000
DTSTAMP:20260423T124726
CREATED:20231203T193001Z
LAST-MODIFIED:20231203T225056Z
UID:44512-1706949000-1706977800@www.tricitybees.org
SUMMARY:MCBA Beginning Beekeeper Class
DESCRIPTION:Come join us for an introduction to beekeeping! We will cover the basics of beekeeping\, including bee biology\, hive maintenance\, pest\, disease\, and more! Both new-bees and experienced beekeepers are welcome. \nThis is the Washington State Beekeepers Associations beginner beekeeping course. cost is $75 This does fulfill one of the requirements for the city of West Richland to keep bees. Cost of class includes membership in the Washington state beekeeper’s association and the Mid Colombia Beekeepers Association. MCBA will have field days where you learn how to inspect your hive and what to look for.
URL:https://www.tricitybees.org/event/class/
LOCATION:Richland Church of Christ\, 933 Thayer Dr.\, Richland\, WA\, 99352\, United States
CATEGORIES:Education
ATTACH;FMTTYPE=image/jpeg:https://www.tricitybees.org/wp-content/uploads/2023/12/405317002_384520897570148_1738449677406884057_n.jpg
ORGANIZER;CN="Mid-Columbia Beekeepers Association":MAILTO:info@tricitybees.org
END:VEVENT
END:VCALENDAR